BEGIN:VCALENDAR
VERSION:2.0
PRODID:-//YourWebsite//NONSGML v1.0//EN
BEGIN:VEVENT
UID:69ec0c3785e22@yourwebsite.com
DTSTAMP:20260425T003503Z
DTSTART:20260503T110000
DTEND:20260503T120000
SUMMARY:Start Up New Member Class • SoMi
LOCATION:South Miami Campus
URL:https://christjourney.org/event/start-up-new-member-class-somi/
END:VEVENT
END:VCALENDAR
