BEGIN:VCALENDAR
VERSION:2.0
PRODID:-//YourWebsite//NONSGML v1.0//EN
BEGIN:VEVENT
UID:69ea19c6d5c95@yourwebsite.com
DTSTAMP:20260423T130822Z
DTSTART:20260426T000000
DTEND:20260426T010000
SUMMARY:Feed Miami • Cuba Emergency Food Collection
URL:https://christjourney.org/event/feed-miami-cuba-emergency-food-collection/
END:VEVENT
END:VCALENDAR
